BEGIN:VCALENDAR
VERSION:2.0
PRODID:-//Downtown Boston Alliance - ECPv6.13.2.1//NONSGML v1.0//EN
CALSCALE:GREGORIAN
METHOD:PUBLISH
X-ORIGINAL-URL:https://www.downtownboston.org
X-WR-CALDESC:Events for Downtown Boston Alliance
REFRESH-INTERVAL;VALUE=DURATION:PT1H
X-Robots-Tag:noindex
X-PUBLISHED-TTL:PT1H
BEGIN:VTIMEZONE
TZID:UTC
BEGIN:STANDARD
TZOFFSETFROM:+0000
TZOFFSETTO:+0000
TZNAME:UTC
DTSTART:20250101T000000
END:STANDARD
END:VTIMEZONE
BEGIN:VEVENT
DTSTART;TZID=UTC:20251024T080000
DTEND;TZID=UTC:20251024T180000
DTSTAMP:20260421T120532
CREATED:20251020T135902Z
LAST-MODIFIED:20251024T172512Z
UID:10002372-1761292800-1761328800@www.downtownboston.org
SUMMARY:Zicam™ Apothecary Pop-Up at Boston Common
DESCRIPTION:Boston\, your cold is coming! This fall\, Zicam™\, the #1 Cold Shortening Brand\, is galloping into Boston Common with a colonial themed pop-up designed to help Bostonians brace for cold and flu season. Inspired by the brand’s “Your Cold Is Coming” campaign\, the Zicam Apothecary invites guests to sip hot cider\, snag free samples of Zicam’s Cold Remedy RapidMelts + Nighttime Combo Pack\, and snap photos with Zicam’s very own midnight rider and his live horse.
URL:https://www.downtownboston.org/event/zicam-apothecary-pop-up-at-boston-common/
LOCATION:John Paul II Placard\, 16 Charles St\, Boston\, MA 02108\, John Paul II Placard\, 16 Charles St\, Boston\, MA 02108\, Boston\, MA\, 02108\, United States
ATTACH;FMTTYPE=image/png:https://www.downtownboston.org/wp-content/uploads/2025/10/Screen-Shot-2025-10-24-at-1.20.13-PM-1.png
END:VEVENT
END:VCALENDAR